BEGIN:VCALENDAR
VERSION:2.0
PRODID:-//St John of Kronstadt Church - ECPv6.15.20//NONSGML v1.0//EN
CALSCALE:GREGORIAN
METHOD:PUBLISH
X-WR-CALNAME:St John of Kronstadt Church
X-ORIGINAL-URL:https://stjohnkronstadtchurch.org
X-WR-CALDESC:Events for St John of Kronstadt Church
REFRESH-INTERVAL;VALUE=DURATION:PT1H
X-Robots-Tag:noindex
X-PUBLISHED-TTL:PT1H
BEGIN:VTIMEZONE
TZID:America/Chicago
BEGIN:DAYLIGHT
TZOFFSETFROM:-0600
TZOFFSETTO:-0500
TZNAME:CDT
DTSTART:20250309T080000
END:DAYLIGHT
BEGIN:STANDARD
TZOFFSETFROM:-0500
TZOFFSETTO:-0600
TZNAME:CST
DTSTART:20251102T070000
END:STANDARD
BEGIN:DAYLIGHT
TZOFFSETFROM:-0600
TZOFFSETTO:-0500
TZNAME:CDT
DTSTART:20260308T080000
END:DAYLIGHT
BEGIN:STANDARD
TZOFFSETFROM:-0500
TZOFFSETTO:-0600
TZNAME:CST
DTSTART:20261101T070000
END:STANDARD
BEGIN:DAYLIGHT
TZOFFSETFROM:-0600
TZOFFSETTO:-0500
TZNAME:CDT
DTSTART:20270314T080000
END:DAYLIGHT
BEGIN:STANDARD
TZOFFSETFROM:-0500
TZOFFSETTO:-0600
TZNAME:CST
DTSTART:20271107T070000
END:STANDARD
END:VTIMEZONE
BEGIN:VEVENT
DTSTART;TZID=America/Chicago:20260520T180000
DTEND;TZID=America/Chicago:20260520T200000
DTSTAMP:20260420T033019
CREATED:20260226T144846Z
LAST-MODIFIED:20260326T184048Z
UID:1587-1779300000-1779307200@stjohnkronstadtchurch.org
SUMMARY:Festal Vigil
DESCRIPTION:Feast of the Ascension of Our Lord Jesus Christ
URL:https://stjohnkronstadtchurch.org/event/festal-vigil/
END:VEVENT
BEGIN:VEVENT
DTSTART;TZID=America/Chicago:20260521T090000
DTEND;TZID=America/Chicago:20260521T100000
DTSTAMP:20260420T033019
CREATED:20260226T144950Z
LAST-MODIFIED:20260226T144950Z
UID:1589-1779354000-1779357600@stjohnkronstadtchurch.org
SUMMARY:Divine Liturgy
DESCRIPTION:Feast of the Ascension of Our Lord Jesus Christ
URL:https://stjohnkronstadtchurch.org/event/divine-liturgy-50/
END:VEVENT
BEGIN:VEVENT
DTSTART;TZID=America/Chicago:20260522T070000
DTEND;TZID=America/Chicago:20260522T080000
DTSTAMP:20260420T033019
CREATED:20260318T015910Z
LAST-MODIFIED:20260318T015910Z
UID:1727-1779433200-1779436800@stjohnkronstadtchurch.org
SUMMARY:Daily Matins
DESCRIPTION:
URL:https://stjohnkronstadtchurch.org/event/daily-matins-37/
END:VEVENT
BEGIN:VEVENT
DTSTART;TZID=America/Chicago:20260522T183000
DTEND;TZID=America/Chicago:20260522T190000
DTSTAMP:20260420T033019
CREATED:20260318T020023Z
LAST-MODIFIED:20260318T020023Z
UID:1729-1779474600-1779476400@stjohnkronstadtchurch.org
SUMMARY:Daily Vespers
DESCRIPTION:
URL:https://stjohnkronstadtchurch.org/event/daily-vespers-44/
END:VEVENT
BEGIN:VEVENT
DTSTART;TZID=America/Chicago:20260523T170000
DTEND;TZID=America/Chicago:20260523T190000
DTSTAMP:20260420T033019
CREATED:20260226T145023Z
LAST-MODIFIED:20260326T183936Z
UID:1591-1779555600-1779562800@stjohnkronstadtchurch.org
SUMMARY:Vigil
DESCRIPTION:
URL:https://stjohnkronstadtchurch.org/event/vigil-44/
END:VEVENT
BEGIN:VEVENT
DTSTART;TZID=America/Chicago:20260523T190000
DTEND;TZID=America/Chicago:20260523T200000
DTSTAMP:20260420T033019
CREATED:20260406T202450Z
LAST-MODIFIED:20260406T202450Z
UID:1843-1779562800-1779566400@stjohnkronstadtchurch.org
SUMMARY:Confession
DESCRIPTION:
URL:https://stjohnkronstadtchurch.org/event/confession-9/
END:VEVENT
BEGIN:VEVENT
DTSTART;TZID=America/Chicago:20260524T100000
DTEND;TZID=America/Chicago:20260524T113000
DTSTAMP:20260420T033019
CREATED:20260226T145101Z
LAST-MODIFIED:20260226T145101Z
UID:1593-1779616800-1779622200@stjohnkronstadtchurch.org
SUMMARY:Divine Liturgy
DESCRIPTION:
URL:https://stjohnkronstadtchurch.org/event/divine-liturgy-51/
END:VEVENT
BEGIN:VEVENT
DTSTART;TZID=America/Chicago:20260526T070000
DTEND;TZID=America/Chicago:20260526T080000
DTSTAMP:20260420T033019
CREATED:20260318T204948Z
LAST-MODIFIED:20260318T204948Z
UID:1734-1779778800-1779782400@stjohnkronstadtchurch.org
SUMMARY:Daily Matins
DESCRIPTION:
URL:https://stjohnkronstadtchurch.org/event/daily-matins-39/
END:VEVENT
BEGIN:VEVENT
DTSTART;TZID=America/Chicago:20260527T070000
DTEND;TZID=America/Chicago:20260527T080000
DTSTAMP:20260420T033019
CREATED:20260226T145249Z
LAST-MODIFIED:20260318T204725Z
UID:1597-1779865200-1779868800@stjohnkronstadtchurch.org
SUMMARY:Daily Matins
DESCRIPTION:
URL:https://stjohnkronstadtchurch.org/event/daily-matins-20/
END:VEVENT
BEGIN:VEVENT
DTSTART;TZID=America/Chicago:20260527T183000
DTEND;TZID=America/Chicago:20260527T190000
DTSTAMP:20260420T033019
CREATED:20260226T145203Z
LAST-MODIFIED:20260318T020100Z
UID:1595-1779906600-1779908400@stjohnkronstadtchurch.org
SUMMARY:Daily Vespers
DESCRIPTION:
URL:https://stjohnkronstadtchurch.org/event/daily-vespers-35/
END:VEVENT
BEGIN:VEVENT
DTSTART;TZID=America/Chicago:20260527T190000
DTEND;TZID=America/Chicago:20260527T200000
DTSTAMP:20260420T033019
CREATED:20260406T202657Z
LAST-MODIFIED:20260406T202657Z
UID:1847-1779908400-1779912000@stjohnkronstadtchurch.org
SUMMARY:Confession
DESCRIPTION:
URL:https://stjohnkronstadtchurch.org/event/confession-11/
END:VEVENT
BEGIN:VEVENT
DTSTART;TZID=America/Chicago:20260528T070000
DTEND;TZID=America/Chicago:20260528T080000
DTSTAMP:20260420T033019
CREATED:20260318T205022Z
LAST-MODIFIED:20260318T205106Z
UID:1736-1779951600-1779955200@stjohnkronstadtchurch.org
SUMMARY:Daily Matins
DESCRIPTION:
URL:https://stjohnkronstadtchurch.org/event/daily-matins-40/
END:VEVENT
BEGIN:VEVENT
DTSTART;TZID=America/Chicago:20260529T070000
DTEND;TZID=America/Chicago:20260529T080000
DTSTAMP:20260420T033019
CREATED:20260226T145357Z
LAST-MODIFIED:20260318T204813Z
UID:1601-1780038000-1780041600@stjohnkronstadtchurch.org
SUMMARY:Daily Matins
DESCRIPTION:
URL:https://stjohnkronstadtchurch.org/event/daily-matins-21/
END:VEVENT
BEGIN:VEVENT
DTSTART;TZID=America/Chicago:20260529T183000
DTEND;TZID=America/Chicago:20260529T190000
DTSTAMP:20260420T033019
CREATED:20260226T145321Z
LAST-MODIFIED:20260318T020204Z
UID:1599-1780079400-1780081200@stjohnkronstadtchurch.org
SUMMARY:Daily Vespers
DESCRIPTION:
URL:https://stjohnkronstadtchurch.org/event/daily-vespers-36/
END:VEVENT
BEGIN:VEVENT
DTSTART;TZID=America/Chicago:20260530T170000
DTEND;TZID=America/Chicago:20260530T190000
DTSTAMP:20260420T033019
CREATED:20260226T145441Z
LAST-MODIFIED:20260326T184013Z
UID:1603-1780160400-1780167600@stjohnkronstadtchurch.org
SUMMARY:Festal Vigil
DESCRIPTION:Feast of Pentecost
URL:https://stjohnkronstadtchurch.org/event/festal-vigil-3/
END:VEVENT
BEGIN:VEVENT
DTSTART;TZID=America/Chicago:20260530T190000
DTEND;TZID=America/Chicago:20260530T200000
DTSTAMP:20260420T033019
CREATED:20260406T202722Z
LAST-MODIFIED:20260406T202722Z
UID:1849-1780167600-1780171200@stjohnkronstadtchurch.org
SUMMARY:Confession
DESCRIPTION:
URL:https://stjohnkronstadtchurch.org/event/confession-12/
END:VEVENT
BEGIN:VEVENT
DTSTART;TZID=America/Chicago:20260531T100000
DTEND;TZID=America/Chicago:20260531T113000
DTSTAMP:20260420T033019
CREATED:20260226T145528Z
LAST-MODIFIED:20260226T145528Z
UID:1605-1780221600-1780227000@stjohnkronstadtchurch.org
SUMMARY:Divine Liturgy
DESCRIPTION:Feast of Pentecost
URL:https://stjohnkronstadtchurch.org/event/divine-liturgy-52/
END:VEVENT
BEGIN:VEVENT
DTSTART;TZID=America/Chicago:20260531T113000
DTEND;TZID=America/Chicago:20260531T120000
DTSTAMP:20260420T033019
CREATED:20260319T204621Z
LAST-MODIFIED:20260319T204621Z
UID:1772-1780227000-1780228800@stjohnkronstadtchurch.org
SUMMARY:Kneeling Vespers
DESCRIPTION:
URL:https://stjohnkronstadtchurch.org/event/kneeling-vespers/
END:VEVENT
BEGIN:VEVENT
DTSTART;TZID=America/Chicago:20260602T070000
DTEND;TZID=America/Chicago:20260602T080000
DTSTAMP:20260420T033019
CREATED:20260318T205331Z
LAST-MODIFIED:20260318T205331Z
UID:1740-1780383600-1780387200@stjohnkronstadtchurch.org
SUMMARY:Daily Matins
DESCRIPTION:
URL:https://stjohnkronstadtchurch.org/event/daily-matins-42/
END:VEVENT
BEGIN:VEVENT
DTSTART;TZID=America/Chicago:20260603T070000
DTEND;TZID=America/Chicago:20260603T080000
DTSTAMP:20260420T033019
CREATED:20260226T171632Z
LAST-MODIFIED:20260318T205256Z
UID:1612-1780470000-1780473600@stjohnkronstadtchurch.org
SUMMARY:Daily Matins
DESCRIPTION:
URL:https://stjohnkronstadtchurch.org/event/daily-matins-22/
END:VEVENT
BEGIN:VEVENT
DTSTART;TZID=America/Chicago:20260603T183000
DTEND;TZID=America/Chicago:20260603T190000
DTSTAMP:20260420T033019
CREATED:20260226T171557Z
LAST-MODIFIED:20260318T205219Z
UID:1610-1780511400-1780513200@stjohnkronstadtchurch.org
SUMMARY:Daily Vespers
DESCRIPTION:
URL:https://stjohnkronstadtchurch.org/event/daily-vespers-37/
END:VEVENT
BEGIN:VEVENT
DTSTART;TZID=America/Chicago:20260603T190000
DTEND;TZID=America/Chicago:20260603T200000
DTSTAMP:20260420T033019
CREATED:20260406T202830Z
LAST-MODIFIED:20260406T202830Z
UID:1851-1780513200-1780516800@stjohnkronstadtchurch.org
SUMMARY:Confession
DESCRIPTION:
URL:https://stjohnkronstadtchurch.org/event/confession-13/
END:VEVENT
BEGIN:VEVENT
DTSTART;TZID=America/Chicago:20260604T070000
DTEND;TZID=America/Chicago:20260604T080000
DTSTAMP:20260420T033019
CREATED:20260318T205651Z
LAST-MODIFIED:20260318T205651Z
UID:1742-1780556400-1780560000@stjohnkronstadtchurch.org
SUMMARY:Daily Matins
DESCRIPTION:
URL:https://stjohnkronstadtchurch.org/event/daily-matins-43/
END:VEVENT
BEGIN:VEVENT
DTSTART;TZID=America/Chicago:20260605T070000
DTEND;TZID=America/Chicago:20260605T080000
DTSTAMP:20260420T033019
CREATED:20260226T171805Z
LAST-MODIFIED:20260318T205542Z
UID:1616-1780642800-1780646400@stjohnkronstadtchurch.org
SUMMARY:Daily Matins
DESCRIPTION:
URL:https://stjohnkronstadtchurch.org/event/daily-matins-23/
END:VEVENT
BEGIN:VEVENT
DTSTART;TZID=America/Chicago:20260605T183000
DTEND;TZID=America/Chicago:20260605T190000
DTSTAMP:20260420T033019
CREATED:20260226T171712Z
LAST-MODIFIED:20260318T205435Z
UID:1614-1780684200-1780686000@stjohnkronstadtchurch.org
SUMMARY:Daily Vespers
DESCRIPTION:
URL:https://stjohnkronstadtchurch.org/event/daily-vespers-38/
END:VEVENT
BEGIN:VEVENT
DTSTART;TZID=America/Chicago:20260606T160000
DTEND;TZID=America/Chicago:20260606T164500
DTSTAMP:20260420T033019
CREATED:20260326T184251Z
LAST-MODIFIED:20260326T184251Z
UID:1792-1780761600-1780764300@stjohnkronstadtchurch.org
SUMMARY:Catechism
DESCRIPTION:
URL:https://stjohnkronstadtchurch.org/event/catechism-8/
END:VEVENT
BEGIN:VEVENT
DTSTART;TZID=America/Chicago:20260606T170000
DTEND;TZID=America/Chicago:20260606T190000
DTSTAMP:20260420T033019
CREATED:20260226T171840Z
LAST-MODIFIED:20260326T184134Z
UID:1618-1780765200-1780772400@stjohnkronstadtchurch.org
SUMMARY:Vigil
DESCRIPTION:
URL:https://stjohnkronstadtchurch.org/event/vigil-45/
END:VEVENT
BEGIN:VEVENT
DTSTART;TZID=America/Chicago:20260606T190000
DTEND;TZID=America/Chicago:20260606T200000
DTSTAMP:20260420T033019
CREATED:20260406T203138Z
LAST-MODIFIED:20260406T203138Z
UID:1854-1780772400-1780776000@stjohnkronstadtchurch.org
SUMMARY:Confession
DESCRIPTION:
URL:https://stjohnkronstadtchurch.org/event/confession-14/
END:VEVENT
BEGIN:VEVENT
DTSTART;TZID=America/Chicago:20260607T100000
DTEND;TZID=America/Chicago:20260607T113000
DTSTAMP:20260420T033019
CREATED:20260226T171917Z
LAST-MODIFIED:20260226T171917Z
UID:1620-1780826400-1780831800@stjohnkronstadtchurch.org
SUMMARY:Divine Liturgy
DESCRIPTION:
URL:https://stjohnkronstadtchurch.org/event/divine-liturgy-53/
END:VEVENT
BEGIN:VEVENT
DTSTART;TZID=America/Chicago:20260607T113000
DTEND;TZID=America/Chicago:20260607T120000
DTSTAMP:20260420T033019
CREATED:20260326T184325Z
LAST-MODIFIED:20260326T184325Z
UID:1794-1780831800-1780833600@stjohnkronstadtchurch.org
SUMMARY:Baffle the Priest
DESCRIPTION:
URL:https://stjohnkronstadtchurch.org/event/baffle-the-priest-8/
END:VEVENT
END:VCALENDAR