BEGIN:VCALENDAR
VERSION:2.0
PRODID:-//St John of Kronstadt Church - ECPv6.15.20//NONSGML v1.0//EN
CALSCALE:GREGORIAN
METHOD:PUBLISH
X-WR-CALNAME:St John of Kronstadt Church
X-ORIGINAL-URL:https://stjohnkronstadtchurch.org
X-WR-CALDESC:Events for St John of Kronstadt Church
REFRESH-INTERVAL;VALUE=DURATION:PT1H
X-Robots-Tag:noindex
X-PUBLISHED-TTL:PT1H
BEGIN:VTIMEZONE
TZID:America/Chicago
BEGIN:DAYLIGHT
TZOFFSETFROM:-0600
TZOFFSETTO:-0500
TZNAME:CDT
DTSTART:20250309T080000
END:DAYLIGHT
BEGIN:STANDARD
TZOFFSETFROM:-0500
TZOFFSETTO:-0600
TZNAME:CST
DTSTART:20251102T070000
END:STANDARD
BEGIN:DAYLIGHT
TZOFFSETFROM:-0600
TZOFFSETTO:-0500
TZNAME:CDT
DTSTART:20260308T080000
END:DAYLIGHT
BEGIN:STANDARD
TZOFFSETFROM:-0500
TZOFFSETTO:-0600
TZNAME:CST
DTSTART:20261101T070000
END:STANDARD
BEGIN:DAYLIGHT
TZOFFSETFROM:-0600
TZOFFSETTO:-0500
TZNAME:CDT
DTSTART:20270314T080000
END:DAYLIGHT
BEGIN:STANDARD
TZOFFSETFROM:-0500
TZOFFSETTO:-0600
TZNAME:CST
DTSTART:20271107T070000
END:STANDARD
END:VTIMEZONE
BEGIN:VEVENT
DTSTART;TZID=America/Chicago:20260603T183000
DTEND;TZID=America/Chicago:20260603T190000
DTSTAMP:20260420T044850
CREATED:20260226T171557Z
LAST-MODIFIED:20260318T205219Z
UID:1610-1780511400-1780513200@stjohnkronstadtchurch.org
SUMMARY:Daily Vespers
DESCRIPTION:
URL:https://stjohnkronstadtchurch.org/event/daily-vespers-37/
END:VEVENT
BEGIN:VEVENT
DTSTART;TZID=America/Chicago:20260603T190000
DTEND;TZID=America/Chicago:20260603T200000
DTSTAMP:20260420T044850
CREATED:20260406T202830Z
LAST-MODIFIED:20260406T202830Z
UID:1851-1780513200-1780516800@stjohnkronstadtchurch.org
SUMMARY:Confession
DESCRIPTION:
URL:https://stjohnkronstadtchurch.org/event/confession-13/
END:VEVENT
BEGIN:VEVENT
DTSTART;TZID=America/Chicago:20260604T070000
DTEND;TZID=America/Chicago:20260604T080000
DTSTAMP:20260420T044850
CREATED:20260318T205651Z
LAST-MODIFIED:20260318T205651Z
UID:1742-1780556400-1780560000@stjohnkronstadtchurch.org
SUMMARY:Daily Matins
DESCRIPTION:
URL:https://stjohnkronstadtchurch.org/event/daily-matins-43/
END:VEVENT
BEGIN:VEVENT
DTSTART;TZID=America/Chicago:20260605T070000
DTEND;TZID=America/Chicago:20260605T080000
DTSTAMP:20260420T044850
CREATED:20260226T171805Z
LAST-MODIFIED:20260318T205542Z
UID:1616-1780642800-1780646400@stjohnkronstadtchurch.org
SUMMARY:Daily Matins
DESCRIPTION:
URL:https://stjohnkronstadtchurch.org/event/daily-matins-23/
END:VEVENT
BEGIN:VEVENT
DTSTART;TZID=America/Chicago:20260605T183000
DTEND;TZID=America/Chicago:20260605T190000
DTSTAMP:20260420T044850
CREATED:20260226T171712Z
LAST-MODIFIED:20260318T205435Z
UID:1614-1780684200-1780686000@stjohnkronstadtchurch.org
SUMMARY:Daily Vespers
DESCRIPTION:
URL:https://stjohnkronstadtchurch.org/event/daily-vespers-38/
END:VEVENT
BEGIN:VEVENT
DTSTART;TZID=America/Chicago:20260606T160000
DTEND;TZID=America/Chicago:20260606T164500
DTSTAMP:20260420T044850
CREATED:20260326T184251Z
LAST-MODIFIED:20260326T184251Z
UID:1792-1780761600-1780764300@stjohnkronstadtchurch.org
SUMMARY:Catechism
DESCRIPTION:
URL:https://stjohnkronstadtchurch.org/event/catechism-8/
END:VEVENT
BEGIN:VEVENT
DTSTART;TZID=America/Chicago:20260606T170000
DTEND;TZID=America/Chicago:20260606T190000
DTSTAMP:20260420T044850
CREATED:20260226T171840Z
LAST-MODIFIED:20260326T184134Z
UID:1618-1780765200-1780772400@stjohnkronstadtchurch.org
SUMMARY:Vigil
DESCRIPTION:
URL:https://stjohnkronstadtchurch.org/event/vigil-45/
END:VEVENT
BEGIN:VEVENT
DTSTART;TZID=America/Chicago:20260606T190000
DTEND;TZID=America/Chicago:20260606T200000
DTSTAMP:20260420T044850
CREATED:20260406T203138Z
LAST-MODIFIED:20260406T203138Z
UID:1854-1780772400-1780776000@stjohnkronstadtchurch.org
SUMMARY:Confession
DESCRIPTION:
URL:https://stjohnkronstadtchurch.org/event/confession-14/
END:VEVENT
BEGIN:VEVENT
DTSTART;TZID=America/Chicago:20260607T100000
DTEND;TZID=America/Chicago:20260607T113000
DTSTAMP:20260420T044850
CREATED:20260226T171917Z
LAST-MODIFIED:20260226T171917Z
UID:1620-1780826400-1780831800@stjohnkronstadtchurch.org
SUMMARY:Divine Liturgy
DESCRIPTION:
URL:https://stjohnkronstadtchurch.org/event/divine-liturgy-53/
END:VEVENT
BEGIN:VEVENT
DTSTART;TZID=America/Chicago:20260607T113000
DTEND;TZID=America/Chicago:20260607T120000
DTSTAMP:20260420T044850
CREATED:20260326T184325Z
LAST-MODIFIED:20260326T184325Z
UID:1794-1780831800-1780833600@stjohnkronstadtchurch.org
SUMMARY:Baffle the Priest
DESCRIPTION:
URL:https://stjohnkronstadtchurch.org/event/baffle-the-priest-8/
END:VEVENT
BEGIN:VEVENT
DTSTART;TZID=America/Chicago:20260609T070000
DTEND;TZID=America/Chicago:20260609T080000
DTSTAMP:20260420T044850
CREATED:20260318T210346Z
LAST-MODIFIED:20260318T210346Z
UID:1746-1780988400-1780992000@stjohnkronstadtchurch.org
SUMMARY:Daily Matins
DESCRIPTION:
URL:https://stjohnkronstadtchurch.org/event/daily-matins-45/
END:VEVENT
BEGIN:VEVENT
DTSTART;TZID=America/Chicago:20260610T070000
DTEND;TZID=America/Chicago:20260610T080000
DTSTAMP:20260420T044850
CREATED:20260226T172139Z
LAST-MODIFIED:20260318T205930Z
UID:1624-1781074800-1781078400@stjohnkronstadtchurch.org
SUMMARY:Daily Matins
DESCRIPTION:
URL:https://stjohnkronstadtchurch.org/event/daily-matins-24/
END:VEVENT
BEGIN:VEVENT
DTSTART;TZID=America/Chicago:20260610T183000
DTEND;TZID=America/Chicago:20260610T190000
DTSTAMP:20260420T044850
CREATED:20260226T172043Z
LAST-MODIFIED:20260318T205626Z
UID:1622-1781116200-1781118000@stjohnkronstadtchurch.org
SUMMARY:Daily Vespers
DESCRIPTION:
URL:https://stjohnkronstadtchurch.org/event/daily-vespers-39/
END:VEVENT
BEGIN:VEVENT
DTSTART;TZID=America/Chicago:20260610T190000
DTEND;TZID=America/Chicago:20260610T200000
DTSTAMP:20260420T044850
CREATED:20260406T203303Z
LAST-MODIFIED:20260406T203303Z
UID:1856-1781118000-1781121600@stjohnkronstadtchurch.org
SUMMARY:Confession
DESCRIPTION:
URL:https://stjohnkronstadtchurch.org/event/confession-15/
END:VEVENT
BEGIN:VEVENT
DTSTART;TZID=America/Chicago:20260611T070000
DTEND;TZID=America/Chicago:20260611T080000
DTSTAMP:20260420T044850
CREATED:20260318T210413Z
LAST-MODIFIED:20260318T210413Z
UID:1748-1781161200-1781164800@stjohnkronstadtchurch.org
SUMMARY:Daily Matins
DESCRIPTION:
URL:https://stjohnkronstadtchurch.org/event/daily-matins-46/
END:VEVENT
BEGIN:VEVENT
DTSTART;TZID=America/Chicago:20260612T070000
DTEND;TZID=America/Chicago:20260612T080000
DTSTAMP:20260420T044850
CREATED:20260226T172249Z
LAST-MODIFIED:20260318T205956Z
UID:1628-1781247600-1781251200@stjohnkronstadtchurch.org
SUMMARY:Daily Matins
DESCRIPTION:
URL:https://stjohnkronstadtchurch.org/event/daily-matins-25/
END:VEVENT
BEGIN:VEVENT
DTSTART;TZID=America/Chicago:20260612T183000
DTEND;TZID=America/Chicago:20260612T190000
DTSTAMP:20260420T044850
CREATED:20260226T172215Z
LAST-MODIFIED:20260318T205750Z
UID:1626-1781289000-1781290800@stjohnkronstadtchurch.org
SUMMARY:Daily Vespers
DESCRIPTION:
URL:https://stjohnkronstadtchurch.org/event/daily-vespers-40/
END:VEVENT
BEGIN:VEVENT
DTSTART;TZID=America/Chicago:20260613T170000
DTEND;TZID=America/Chicago:20260613T190000
DTSTAMP:20260420T044850
CREATED:20260226T172319Z
LAST-MODIFIED:20260406T203551Z
UID:1630-1781370000-1781377200@stjohnkronstadtchurch.org
SUMMARY:Hierarchical Vigil
DESCRIPTION:
URL:https://stjohnkronstadtchurch.org/event/vigil-46/
END:VEVENT
BEGIN:VEVENT
DTSTART;TZID=America/Chicago:20260614T100000
DTEND;TZID=America/Chicago:20260614T120000
DTSTAMP:20260420T044850
CREATED:20260226T172404Z
LAST-MODIFIED:20260226T172404Z
UID:1632-1781431200-1781438400@stjohnkronstadtchurch.org
SUMMARY:Hierarchical Liturgy
DESCRIPTION:
URL:https://stjohnkronstadtchurch.org/event/hierarchical-liturgy/
END:VEVENT
BEGIN:VEVENT
DTSTART;TZID=America/Chicago:20260616T070000
DTEND;TZID=America/Chicago:20260616T080000
DTSTAMP:20260420T044850
CREATED:20260318T210541Z
LAST-MODIFIED:20260318T210541Z
UID:1752-1781593200-1781596800@stjohnkronstadtchurch.org
SUMMARY:Daily Matins
DESCRIPTION:
URL:https://stjohnkronstadtchurch.org/event/daily-matins-48/
END:VEVENT
BEGIN:VEVENT
DTSTART;TZID=America/Chicago:20260617T070000
DTEND;TZID=America/Chicago:20260617T080000
DTSTAMP:20260420T044850
CREATED:20260226T172840Z
LAST-MODIFIED:20260318T210028Z
UID:1636-1781679600-1781683200@stjohnkronstadtchurch.org
SUMMARY:Daily Matins
DESCRIPTION:
URL:https://stjohnkronstadtchurch.org/event/daily-matins-26/
END:VEVENT
BEGIN:VEVENT
DTSTART;TZID=America/Chicago:20260617T183000
DTEND;TZID=America/Chicago:20260617T190000
DTSTAMP:20260420T044850
CREATED:20260226T172759Z
LAST-MODIFIED:20260318T205836Z
UID:1634-1781721000-1781722800@stjohnkronstadtchurch.org
SUMMARY:Daily Vespers
DESCRIPTION:
URL:https://stjohnkronstadtchurch.org/event/daily-vespers-41/
END:VEVENT
BEGIN:VEVENT
DTSTART;TZID=America/Chicago:20260617T190000
DTEND;TZID=America/Chicago:20260617T200000
DTSTAMP:20260420T044850
CREATED:20260406T203640Z
LAST-MODIFIED:20260406T203640Z
UID:1862-1781722800-1781726400@stjohnkronstadtchurch.org
SUMMARY:Confession
DESCRIPTION:
URL:https://stjohnkronstadtchurch.org/event/confession-16/
END:VEVENT
BEGIN:VEVENT
DTSTART;TZID=America/Chicago:20260618T070000
DTEND;TZID=America/Chicago:20260618T080000
DTSTAMP:20260420T044850
CREATED:20260318T210607Z
LAST-MODIFIED:20260318T210607Z
UID:1754-1781766000-1781769600@stjohnkronstadtchurch.org
SUMMARY:Daily Matins
DESCRIPTION:
URL:https://stjohnkronstadtchurch.org/event/daily-matins-49/
END:VEVENT
BEGIN:VEVENT
DTSTART;TZID=America/Chicago:20260619T070000
DTEND;TZID=America/Chicago:20260619T080000
DTSTAMP:20260420T044850
CREATED:20260226T172956Z
LAST-MODIFIED:20260318T210047Z
UID:1640-1781852400-1781856000@stjohnkronstadtchurch.org
SUMMARY:Daily Matins
DESCRIPTION:
URL:https://stjohnkronstadtchurch.org/event/daily-matins-27/
END:VEVENT
BEGIN:VEVENT
DTSTART;TZID=America/Chicago:20260619T183000
DTEND;TZID=America/Chicago:20260619T190000
DTSTAMP:20260420T044850
CREATED:20260226T172919Z
LAST-MODIFIED:20260318T205857Z
UID:1638-1781893800-1781895600@stjohnkronstadtchurch.org
SUMMARY:Daily Vespers
DESCRIPTION:
URL:https://stjohnkronstadtchurch.org/event/daily-vespers-42/
END:VEVENT
BEGIN:VEVENT
DTSTART;TZID=America/Chicago:20260620T170000
DTEND;TZID=America/Chicago:20260620T190000
DTSTAMP:20260420T044850
CREATED:20260226T173057Z
LAST-MODIFIED:20260326T184358Z
UID:1642-1781974800-1781982000@stjohnkronstadtchurch.org
SUMMARY:Vigil
DESCRIPTION:
URL:https://stjohnkronstadtchurch.org/event/vigil-47/
END:VEVENT
BEGIN:VEVENT
DTSTART;TZID=America/Chicago:20260620T190000
DTEND;TZID=America/Chicago:20260620T200000
DTSTAMP:20260420T044850
CREATED:20260406T204127Z
LAST-MODIFIED:20260406T204127Z
UID:1866-1781982000-1781985600@stjohnkronstadtchurch.org
SUMMARY:Confession
DESCRIPTION:
URL:https://stjohnkronstadtchurch.org/event/confession-18/
END:VEVENT
BEGIN:VEVENT
DTSTART;TZID=America/Chicago:20260621T100000
DTEND;TZID=America/Chicago:20260621T113000
DTSTAMP:20260420T044850
CREATED:20260226T173129Z
LAST-MODIFIED:20260226T173129Z
UID:1644-1782036000-1782041400@stjohnkronstadtchurch.org
SUMMARY:Divine Liturgy
DESCRIPTION:
URL:https://stjohnkronstadtchurch.org/event/divine-liturgy-54/
END:VEVENT
BEGIN:VEVENT
DTSTART;TZID=America/Chicago:20260623T070000
DTEND;TZID=America/Chicago:20260623T080000
DTSTAMP:20260420T044850
CREATED:20260318T210805Z
LAST-MODIFIED:20260318T210805Z
UID:1758-1782198000-1782201600@stjohnkronstadtchurch.org
SUMMARY:Daily Matins
DESCRIPTION:
URL:https://stjohnkronstadtchurch.org/event/daily-matins-51/
END:VEVENT
END:VCALENDAR